BEGIN:VCALENDAR
VERSION:2.0
PRODID:-//Date iCal//NONSGML kigkonsult.se iCalcreator 2.20.2//
METHOD:PUBLISH
BEGIN:VTIMEZONE
TZID:America/New_York
BEGIN:STANDARD
DTSTART:20221106T020000
TZOFFSETFROM:-0400
TZOFFSETTO:-0500
TZNAME:EST
END:STANDARD
BEGIN:DAYLIGHT
DTSTART:20230312T020000
TZOFFSETFROM:-0500
TZOFFSETTO:-0400
TZNAME:EDT
END:DAYLIGHT
END:VTIMEZONE
BEGIN:VEVENT
UID:calendar.2251.events_uoft_date.0@www.humanities.utoronto.ca
CREATED:20230309T154333Z
DESCRIPTION:\nWhen and Where: \nWednesday, March 15, 2023 6:00 pm to 8:00
  pm \n William Doo Auditorium \n New College \n 45 Willcocks Street \n\nSp
 eakers \nRyan Persadie \n\nDescription: \nJoin the WGSI for a screening of
  Ryan Persadie's short film 'Gyal,' followed by a moderated talk.March 15
 , 2023 | 6:00pm - 8:00pmThe talk following the screening will be moderate
 d by Ryan Persadie; with speakers: Aruna Boodram, Suzanne Narain, Maris
 a Rosa Grant & Shanese Indoowaaboo Steele \n\nContact Information: \n Wome
 n and Gender Studies Institute wgsi@utoronto.ca Women and Gender Studies I
 nstitute \n\nSponsors \nWomen and Gender Studies Institute \n45 Willcocks 
 Street \n\nCategories \n Film Screening \n\nAudiences \n All
DTSTART;TZID=America/New_York:20230315T180000
DTEND;TZID=America/New_York:20230315T200000
LAST-MODIFIED:20230309T154333Z
LOCATION:45 Willcocks Street
SUMMARY:Gyal Feminisms: On Misogyny and Gendered Violence in Caribbean Comm
 unities
URL;TYPE=URI:https://www.humanities.utoronto.ca/events/gyal-feminisms-misog
 yny-and-gendered-violence-caribbean-communities
END:VEVENT
END:VCALENDAR
