BEGIN:VCALENDAR
VERSION:2.0
PRODID:-//Date iCal//NONSGML kigkonsult.se iCalcreator 2.20.2//
METHOD:PUBLISH
BEGIN:VTIMEZONE
TZID:America/New_York
BEGIN:STANDARD
DTSTART:20241103T020000
TZOFFSETFROM:-0400
TZOFFSETTO:-0500
TZNAME:EST
END:STANDARD
BEGIN:DAYLIGHT
DTSTART:20250309T020000
TZOFFSETFROM:-0500
TZOFFSETTO:-0400
TZNAME:EDT
END:DAYLIGHT
END:VTIMEZONE
BEGIN:VEVENT
UID:calendar.3751.events_uoft_date.0@www.humanities.utoronto.ca
CREATED:20241018T125433Z
DESCRIPTION:\nWhen and Where: \nSunday, October 27, 2024 2:00 pm to 5:30 
 pm \n Theatre Passe Muraille \n 16 Ryerson Ave, Toronto, ON M5T 2P3 \n\n
 Description: \nDrawing on the unique power of the arts, this innovative o
 ffering combines live theatre performance with experiential learning.A per
 formance of The Flin Flon Cowboy at Theatre Passe Muraille in Toronto will
  serve as a launch pad for discussion and reflection around the role that 
 narrative methods play in framing our understanding of inequities and incl
 usion in healthcare.A Q&A with the creative team geared towards a health p
 rofessional audience will follow the performance, as well as a debrief an
 d reflective writing activity facilitated by Dr. Sarah Kim (Medical Educat
 ion Health Humanities Theme Lead, Temerty Faculty of Medicine).Ultimately
 , participants will deepen their reflection on the intersectionality of d
 isability with mental health, addiction, sexuality, and homelessness. P
 articipants will also develop a deeper understanding of how arts-based ped
 agogical tools encourage dialogue and reflection on critical issues around
  marginalized populations in healthcare. About the PlayThe Flin Flon Cowbo
 y is a new autobiographical musical that chronicles the extraordinary life
  of Ken Harrower, a gay disabled artist and singer. Set to the sounds of 
 original country music, Ken’s story begins in the enigmatic town of Flin 
 Flon, Manitoba, and unfolds through his harrowing experiences as a child
  with a disability in Winnipeg’s foster care system. Defying expectations 
 and refusing to submit to life in an institution, Ken escapes the prairie
 s and embarks on a journey to find connection and belonging in Toronto’s v
 ibrant gay community.Content Warnings: Depictions of Violence Depictions o
 f Self-Harm Strong Language Sexual Content References to Sexual Assault Re
 ferences of Suicidal Ideation Mentions of Substance Abuse and Addiction Le
 arning ObjectivesBy the end of this theatre performance and workshop parti
 cipants will be able to: Define the concept of structural violence and how
  it relates to the social determinants of health Describe the use of appli
 ed theatre in health professional training Demonstrate reflexivity through
  discussion of themes involving disability, accessibility, and mental he
 alth Target AudienceAddressing several critical themes related to inequiti
 es and inclusion in healthcare, this workshop supports a collaborative le
 arning environment open to health professional learners from all disciplin
 es, clinicians, faculty-educators, healthcare providers, all those int
 erested in accessibility issues in healthcare, and all those interested i
 n the use of the arts as an education tool in the health professions. Venu
 eThe performance and workshop will take place in person at Theatre Passe M
 uraille (16 Ryerson Avenue, Toronto, Ontario, M5T 2P3). Fee Program Fee
 : $65 For Students and Residents: $15All amounts are in Canadian Dollars (
 CAD $) and are subject to 13% HST. CancellationRegistrations are non-trans
 ferable and non-refundable.The University of Toronto reserves the right to
  cancel events. Registrants will be notified at the earliest possible date
  in the event of a cancellation. Registration fees for events cancelled by
  the University will be refunded. However, the University will not be lia
 ble for any loss, damages or other expenses that such cancellations may c
 ause. AccreditationCollege of Family Physicians of Canada – Mainpro+® (Gro
 up Learning): This 1 credit(s)-per-hour Group Learning program meets the c
 ertification criteria of the College of Family Physicians of Canada and ha
 s been certified by Continuing Professional Development, Temerty Faculty 
 of Medicine, University of Toronto for up to 3.5 Mainpro+® credits.Royal 
 College of Physicians and Surgeons of Canada – Section 1 This event is an 
 Accredited Group Learning Activity (Section 1) as defined by the Maintenan
 ce of Certification Program of the Royal College of Physicians and Surgeon
 s of Canada, approved by Continuing Professional Development, Temerty Fa
 culty of Medicine, University of Toronto. You may claim a maximum of 3.5 
 hours (credits are automatically calculated).American Medical Association 
 – AMA PRA Category 1 Credit™ Designation Through an agreement between the 
 Royal College of Physicians and Surgeons of Canada and the American Medica
 l Association, physicians may convert Royal College MOC credits to AMA PR
 A Category 1 Credits™. Information on the process to convert Royal College
  MOC credit to AMA credit can be found at: https://www.ama-assn.org/educat
 ion/ama-pra-credit-system/agreement-royal-college-physicians-surgeons-cana
 daEuropean Union for Medical Specialists (UEMS) Live educational activitie
 s recognized by the Royal College of Physicians and Surgeons of Canada as 
 Accredited Group Learning Activities (Section 1) are deemed by the Europea
 n Union of Medical Specialists (UEMS) eligible for ECMEC®. \n\nSponsors \n
 Temerty Health Humanities, NBM Lab \n16 Ryerson Ave, Toronto, ON M5T 2P
 3 \n\nCategories \n PerformanceWorkshop \n\nAudiences \n Health Profession
 als
DTSTART;TZID=America/New_York:20241027T140000
DTEND;TZID=America/New_York:20241027T173000
LAST-MODIFIED:20241018T125433Z
LOCATION:16 Ryerson Ave, Toronto, ON M5T 2P3
SUMMARY:The Flin Flon Cowboy
URL;TYPE=URI:https://www.humanities.utoronto.ca/events/flin-flon-cowboy
END:VEVENT
END:VCALENDAR
