BEGIN:VCALENDAR
VERSION:2.0
PRODID:-//Date iCal//NONSGML kigkonsult.se iCalcreator 2.20.2//
METHOD:PUBLISH
BEGIN:VTIMEZONE
TZID:America/New_York
BEGIN:STANDARD
DTSTART:20241103T020000
TZOFFSETFROM:-0400
TZOFFSETTO:-0500
TZNAME:EST
END:STANDARD
BEGIN:DAYLIGHT
DTSTART:20250309T020000
TZOFFSETFROM:-0500
TZOFFSETTO:-0400
TZNAME:EDT
END:DAYLIGHT
END:VTIMEZONE
BEGIN:VEVENT
UID:calendar.3862.events_uoft_date.0@www.humanities.utoronto.ca
CREATED:20241127T140824Z
DESCRIPTION:\nWhen and Where: \nSaturday, January 18, 2025 9:15 am to 5:0
 0 pm \n I\nis Town Hall \n I\nis College \n 2 Sussex Ave Toronto, ON M5S 
 1J5 \n\nDescription: \nFrom January 31 to February 15, 2025, the Canadia
 n Opera Company (COC) will be mounting the Canadian composer Julien Bilode
 au’s new opera, La Reine-garçon, with a libretto by Michel Marc Bouchard
 . It focuses on Queen Christina of Sweden, and her interactions with the 
 philosopher René Descartes, whom she invited to Stockholm in late 1649.Th
 is one-day symposium will explore how La Reine-garçon is grounded in Carte
 sian philosophy and contemporary theories of gender and performance.Panels
  on Queen Christina and René Descartes; on prior representations of Chris
 tina in the arts; on gender and opera; and on the creation of this new C
 anadian opera.Program9:15-9:30—Welcome9:30-10:30—Christina and Descartes: 
 History and Philosophy Marleen Rozemond, Professor of Philosophy, Univer
 sity of Toronto Alison Smith, Professor of History, University of Toront
 o Chair: Donald Ainslie, Professor of Philosophy, University of Toronto1
 0:30-11:00—Break11:00-12:00—Representations of Christina Alice Maurice, A
 ssociate Professor of English and Cinema Studies, University of Toronto M
 ichael Slowik, Professor of Film Studies, Wesleyan University Chair: Dan
 a Seitler, Professor of English and Director, Bonham Centre for Sexual D
 iversity Studies12:00-1:30—Lunch1:30-2:30—Opera and Gender Jane Forner, S
 essional Lecturer, Faculty of Music, University of Toronto Aria Umezawa\
 , Director, Co-founder Amplified Opera Chair: Caryl Clark, Emeritus Prof
 essor of Music, University of Toronto2:30-3:00—Break3:00-4:00—Conversatio
 n with the Composer and Librettist from the Canadian Opera Company’s La Re
 ine-garçon Julien Bilodeau, Composer Michel Marc Bouchard, Librettist Ch
 air: Norbert Palej, Associate Professor of Music, University of Toronto4
 :00-5:00—A Conversation with the Creative Team from the Canadian Opera Com
 pany’s La Reine-garçon Angela Konrad, Director Kirsten LeBlanc, Soprano 
 (Queen Christine, February 7, 2025) Alain Coulombe (bass playing an 'Ass
 istant to Descartes') Chair: Johannes Debus, Music Director, Canadian Op
 era CompanyThis event is partly sponsored by the Jackman Humanities Instit
 ute's Program for the Arts.Conference \nSponsors:Jackman Humanities Instit
 ute, University of Toronto Department of Philosophy, Faculty of Arts and
  Science, University of Toronto Department of Philosophy, University of 
 Toronto Mississauga Department of French, University of Toronto Universit
 y College, University of Toronto Faculty of Music, University of Toronto
  Mark S. Bonham Centre for Sexual Diversity Studies, University of Toront
 o Department of English, University of Toronto ScarboroughCoinciding with
  Symposium and opera is the screening of    Queen Christina. Join the Quee
 r Cinema Club at Paradise Theatre on Bloor on January 20th, 2025 to bask 
 in the glory of two true royals, Queen Christina of Sweden and Greta Garb
 o, as they come together as one in this incredibly queer pre-code movie f
 rom 1933! The film stars a 27-year-old Garbo as the titular 17th-century q
 ueen, a woman whose unconventional life has been scrutinized and represen
 ted from her own time to today. Her sexuality and gender have now for near
 ly 400 years been the subject of conjecture. And Garbo (a queer legend of 
 history in her own right) leans into this in her fiery portrayal of her. T
 he screening will coincide with the premiere of La Reine-garçon, running 
 from January 31 to February 15 at the Canadian Opera Company. Peter Knegt\
 , founder of the Queer Cinema Club, and musicologist Jane Forner and who 
 will offer some insight into the film, the opera and the history behind b
 oth! Tickets available from the Paradise website.  \n2 Sussex Ave Toronto\
 , ON M5S 1J5 \n\nCategories \n JHI EventProgram for the ArtsSymposium \n\n
 Audiences \n All
DTSTART;TZID=America/New_York:20250118T091500
DTEND;TZID=America/New_York:20250118T170000
LAST-MODIFIED:20250117T170450Z
LOCATION:2 Sussex Ave Toronto, ON M5S 1J5
SUMMARY:La Reine-garҫon: Philosophy, Gender, Opera
URL;TYPE=URI:https://www.humanities.utoronto.ca/events/la-reine-gar%D2%ABon
 -philosophy-gender-opera
END:VEVENT
END:VCALENDAR
