BEGIN:VCALENDAR
VERSION:2.0
PRODID:-//Date iCal//NONSGML kigkonsult.se iCalcreator 2.20.2//
METHOD:PUBLISH
BEGIN:VTIMEZONE
TZID:America/New_York
BEGIN:STANDARD
DTSTART:20241103T020000
TZOFFSETFROM:-0400
TZOFFSETTO:-0500
TZNAME:EST
END:STANDARD
BEGIN:DAYLIGHT
DTSTART:20250309T020000
TZOFFSETFROM:-0500
TZOFFSETTO:-0400
TZNAME:EDT
END:DAYLIGHT
END:VTIMEZONE
BEGIN:VEVENT
UID:calendar.4198.events_uoft_date.0@www.humanities.utoronto.ca
CREATED:20250319T134347Z
DESCRIPTION:\nWhen and Where: \nWednesday, March 26, 2025 3:00 pm to 5:00
  pm \n JHB100 \n Jackman Humanities Building \n 170 St. George Street, 1s
 t floor \n\nSpeakers \nVivian Blaxell \n\nDescription: \nOn March 26 3:10-
 5 pm EST, join us in-person at Room 100A in the Jackman Humanities Buildi
 ng at 170 St. George Street, or over Zoom for a talk that will be ‘worthy
  of the event.’ Reserve your free ticket here.Vivian Blaxell, author of W
 orthy of the Event: An Essay, is the new queer literary superstar, “a 21
 st Century Proust committed to TMI” (Dodie Bellamy), her book “the most p
 rovoking writing I've read in so long” (Trish Salah).Like its author Vivia
 n Blaxell, Worthy of the Event defies easy categorization. She is or has 
 been a philosopher of the mind and ontologies of being, former street-bas
 ed sex worker in 1960s Australia, scholar of Japanese colonialism, trans
  woman elder, and prolific writer. As a memoir the book takes us through 
 these parts of her life, and into the far reaches of the Earth, space, 
 time, and the mind. Fleshy and philosophical, searching and exalted, ut
 terly distinctive and assured, Worthy of the Event belatedly establishes 
 Vivian Blaxell as one of the major writers of her generation.  Engaging in
  sparkling conversation with luminaries of the transgender intelligentsia\
 , Vivian will be all over the United States and Canada this spring, and w
 e do not exaggerate when we say these are HISTORIC OCCURENCES! You'll prob
 ably be reminiscing about them with nostalgia and fondness on your death b
 ed!HURRY AND RSVP NOW  For this leg of her North American tour, join Vivi
 an in conversation with renowned writer and musician Jia Qing Wilson-Yang 
 at the University of Toronto’s Jackman Humanities Building on March 26th f
 rom 3:10-5 pm EST. If you can’t be in-person, you can also attend over Zo
 om! Courtesy of Another Story Bookstore, copies of Ms. Blaxell book will 
 be on sale at the event. Reserve your free ticket here! \n\nContact Inform
 ation: \n Department of History history.ea@utoronto.ca Department of Histo
 ry \n\nSponsors \nDepartment of History \n170 St. George Street, 1st floo
 r \n\nCategories \n Lecture \n\nAudiences \n All
DTSTART;TZID=America/New_York:20250326T150000
DTEND;TZID=America/New_York:20250326T170000
LAST-MODIFIED:20250319T134347Z
LOCATION:170 St. George Street, 1st floor
SUMMARY:Worthy of the Events: The Vivian Blaxell Tour of North America 2025
URL;TYPE=URI:https://www.humanities.utoronto.ca/events/worthy-events-vivian
 -blaxell-tour-north-america-2025
END:VEVENT
END:VCALENDAR
